BEGIN:VCALENDAR
VERSION:2.0
PRODID:-//HROTC - ECPv6.15.13.1//NONSGML v1.0//EN
CALSCALE:GREGORIAN
METHOD:PUBLISH
X-WR-CALNAME:HROTC
X-ORIGINAL-URL:https://hrdogclub.org
X-WR-CALDESC:Events for HROTC
REFRESH-INTERVAL;VALUE=DURATION:PT1H
X-Robots-Tag:noindex
X-PUBLISHED-TTL:PT1H
BEGIN:VTIMEZONE
TZID:America/New_York
BEGIN:DAYLIGHT
TZOFFSETFROM:-0500
TZOFFSETTO:-0400
TZNAME:EDT
DTSTART:20240310T070000
END:DAYLIGHT
BEGIN:STANDARD
TZOFFSETFROM:-0400
TZOFFSETTO:-0500
TZNAME:EST
DTSTART:20241103T060000
END:STANDARD
BEGIN:DAYLIGHT
TZOFFSETFROM:-0500
TZOFFSETTO:-0400
TZNAME:EDT
DTSTART:20250309T070000
END:DAYLIGHT
BEGIN:STANDARD
TZOFFSETFROM:-0400
TZOFFSETTO:-0500
TZNAME:EST
DTSTART:20251102T060000
END:STANDARD
BEGIN:DAYLIGHT
TZOFFSETFROM:-0500
TZOFFSETTO:-0400
TZNAME:EDT
DTSTART:20260308T070000
END:DAYLIGHT
BEGIN:STANDARD
TZOFFSETFROM:-0400
TZOFFSETTO:-0500
TZNAME:EST
DTSTART:20261101T060000
END:STANDARD
BEGIN:DAYLIGHT
TZOFFSETFROM:-0500
TZOFFSETTO:-0400
TZNAME:EDT
DTSTART:20270314T070000
END:DAYLIGHT
BEGIN:STANDARD
TZOFFSETFROM:-0400
TZOFFSETTO:-0500
TZNAME:EST
DTSTART:20271107T060000
END:STANDARD
END:VTIMEZONE
BEGIN:VEVENT
DTSTART;VALUE=DATE:20260329
DTEND;VALUE=DATE:20260330
DTSTAMP:20260423T175509
CREATED:20251207T163809Z
LAST-MODIFIED:20251207T163809Z
UID:24165-1774742400-1774828799@hrdogclub.org
SUMMARY:Board Meeting
DESCRIPTION:
URL:https://hrdogclub.org/event/board-meeting-21/
LOCATION:VA
CATEGORIES:Meetings
END:VEVENT
BEGIN:VEVENT
DTSTART;VALUE=DATE:20260302
DTEND;VALUE=DATE:20260303
DTSTAMP:20260423T175509
CREATED:20251207T163809Z
LAST-MODIFIED:20251207T163809Z
UID:24164-1772409600-1772495999@hrdogclub.org
SUMMARY:Session 2 Begins
DESCRIPTION:
URL:https://hrdogclub.org/event/session-2-begins-5/
LOCATION:VA
CATEGORIES:Training
END:VEVENT
BEGIN:VEVENT
DTSTART;TZID=America/New_York:20260213T120000
DTEND;TZID=America/New_York:20260213T180000
DTSTAMP:20260423T175509
CREATED:20251128T233236Z
LAST-MODIFIED:20251207T164659Z
UID:23878-1770984000-1771005600@hrdogclub.org
SUMMARY:SW Trial Setup
DESCRIPTION:
URL:https://hrdogclub.org/event/sw-trial-setup/
LOCATION:VA
END:VEVENT
BEGIN:VEVENT
DTSTART;VALUE=DATE:20260209
DTEND;VALUE=DATE:20260210
DTSTAMP:20260423T175509
CREATED:20251207T163805Z
LAST-MODIFIED:20251207T163805Z
UID:24161-1770595200-1770681599@hrdogclub.org
SUMMARY:PMCL Meeting
DESCRIPTION:
URL:https://hrdogclub.org/event/pmcl-meeting-22/
LOCATION:VA
CATEGORIES:PMCL
END:VEVENT
BEGIN:VEVENT
DTSTART;TZID=America/New_York:20260207T130000
DTEND;TZID=America/New_York:20260207T150000
DTSTAMP:20260423T175509
CREATED:20251207T163803Z
LAST-MODIFIED:20260203T163059Z
UID:24160-1770469200-1770476400@hrdogclub.org
SUMMARY:General Meeting/Awards Banquet
DESCRIPTION:
URL:https://hrdogclub.org/event/general-meeting-awards-banquet-3/
LOCATION:HROTC\, 4452 Hinsdale Street\, Virginia Beach\, VA\, 23462\, United States
CATEGORIES:Meetings
END:VEVENT
BEGIN:VEVENT
DTSTART;VALUE=DATE:20260125
DTEND;VALUE=DATE:20260126
DTSTAMP:20260423T175509
CREATED:20251207T163802Z
LAST-MODIFIED:20251207T163802Z
UID:24159-1769299200-1769385599@hrdogclub.org
SUMMARY:Board Meeting
DESCRIPTION:
URL:https://hrdogclub.org/event/board-meeting-16/
LOCATION:VA
CATEGORIES:Meetings
END:VEVENT
BEGIN:VEVENT
DTSTART;TZID=America/New_York:20260117T120000
DTEND;TZID=America/New_York:20260117T150000
DTSTAMP:20260423T175509
CREATED:20251130T203930Z
LAST-MODIFIED:20251208T185828Z
UID:23894-1768651200-1768662000@hrdogclub.org
SUMMARY:Human Factors in Canine Behavior Seminar
DESCRIPTION:
URL:https://hrdogclub.org/event/human-factors-in-canine-behavior-seminar/
LOCATION:HROTC\, 4452 Hinsdale Street\, Virginia Beach\, VA\, 23462\, United States
ORGANIZER;CN="Dustin Weekley":MAILTO:president@hrotc.org
END:VEVENT
BEGIN:VEVENT
DTSTART;VALUE=DATE:20260105
DTEND;VALUE=DATE:20260106
DTSTAMP:20260423T175509
CREATED:20251207T163800Z
LAST-MODIFIED:20251207T163800Z
UID:24158-1767571200-1767657599@hrdogclub.org
SUMMARY:Session 1 Begins
DESCRIPTION:
URL:https://hrdogclub.org/event/session-1-begins-5/
LOCATION:VA
CATEGORIES:Training
END:VEVENT
BEGIN:VEVENT
DTSTART;VALUE=DATE:20260103
DTEND;VALUE=DATE:20260105
DTSTAMP:20260423T175509
CREATED:20251209T212233Z
LAST-MODIFIED:20251209T212833Z
UID:24206-1767398400-1767571199@hrdogclub.org
SUMMARY:Fast CAT
DESCRIPTION:To be held at: \nProvidence Park\n952 Reon Drive\nVirginia Beach\, Virginia 23464 \n  \nRegistration is through Sugarloafmountainracing.com\, and no day of entries. Depending on weather we will hold fun runs on Saturday after the conclusion of the event.
URL:https://hrdogclub.org/event/fast-cat/
LOCATION:Providence Park\, 952 Reon Drive\, Virginia Beach\, VA\, 23464\, United States
END:VEVENT
BEGIN:VEVENT
DTSTART;VALUE=DATE:20251225
DTEND;VALUE=DATE:20251226
DTSTAMP:20260423T175509
CREATED:20250113T000127Z
LAST-MODIFIED:20250113T000127Z
UID:23074-1766620800-1766707199@hrdogclub.org
SUMMARY:Christmas Day
DESCRIPTION:
URL:https://hrdogclub.org/event/christmas-day-2/
LOCATION:VA
END:VEVENT
BEGIN:VEVENT
DTSTART;TZID=America/New_York:20251213T180000
DTEND;TZID=America/New_York:20251213T180000
DTSTAMP:20260423T175509
CREATED:20250113T000127Z
LAST-MODIFIED:20250415T022548Z
UID:23073-1765648800-1765648800@hrdogclub.org
SUMMARY:General Meeting
DESCRIPTION:
URL:https://hrdogclub.org/event/general-meeting-15/
LOCATION:VA
CATEGORIES:Meetings
END:VEVENT
BEGIN:VEVENT
DTSTART;TZID=America/New_York:20251211T180000
DTEND;TZID=America/New_York:20251211T200000
DTSTAMP:20260423T175509
CREATED:20251130T225234Z
LAST-MODIFIED:20251130T225234Z
UID:23909-1765476000-1765483200@hrdogclub.org
SUMMARY:50 Container Dare
DESCRIPTION:To register: \n50 Container Dare – HROTC \n 
URL:https://hrdogclub.org/event/50-container-dare/
LOCATION:VA
END:VEVENT
BEGIN:VEVENT
DTSTART;TZID=America/New_York:20251209T180000
DTEND;TZID=America/New_York:20251209T193000
DTSTAMP:20260423T175509
CREATED:20251130T230622Z
LAST-MODIFIED:20251208T214107Z
UID:23914-1765303200-1765308600@hrdogclub.org
SUMMARY:Distractor Run Throughs
DESCRIPTION:To Register \nDistractor Run Throughs – HROTC
URL:https://hrdogclub.org/event/distractor-run-throughs/
LOCATION:HROTC\, 4452 Hinsdale Street\, Virginia Beach\, VA\, 23462\, United States
ORGANIZER;CN="Marietta Marston":MAILTO:fun4k9sports@gmail.com
END:VEVENT
BEGIN:VEVENT
DTSTART;VALUE=DATE:20251208
DTEND;VALUE=DATE:20251209
DTSTAMP:20260423T175509
CREATED:20250113T000119Z
LAST-MODIFIED:20250113T000119Z
UID:23072-1765152000-1765238399@hrdogclub.org
SUMMARY:PMCL Meeting
DESCRIPTION:
URL:https://hrdogclub.org/event/pmcl-meeting-15/
LOCATION:VA
CATEGORIES:Meetings
END:VEVENT
END:VCALENDAR