BEGIN:VCALENDAR
VERSION:2.0
PRODID:-//HROTC - ECPv6.15.13.1//NONSGML v1.0//EN
CALSCALE:GREGORIAN
METHOD:PUBLISH
X-ORIGINAL-URL:https://hrdogclub.org
X-WR-CALDESC:Events for HROTC
REFRESH-INTERVAL;VALUE=DURATION:PT1H
X-Robots-Tag:noindex
X-PUBLISHED-TTL:PT1H
BEGIN:VTIMEZONE
TZID:America/New_York
BEGIN:DAYLIGHT
TZOFFSETFROM:-0500
TZOFFSETTO:-0400
TZNAME:EDT
DTSTART:20250309T070000
END:DAYLIGHT
BEGIN:STANDARD
TZOFFSETFROM:-0400
TZOFFSETTO:-0500
TZNAME:EST
DTSTART:20251102T060000
END:STANDARD
BEGIN:DAYLIGHT
TZOFFSETFROM:-0500
TZOFFSETTO:-0400
TZNAME:EDT
DTSTART:20260308T070000
END:DAYLIGHT
BEGIN:STANDARD
TZOFFSETFROM:-0400
TZOFFSETTO:-0500
TZNAME:EST
DTSTART:20261101T060000
END:STANDARD
BEGIN:DAYLIGHT
TZOFFSETFROM:-0500
TZOFFSETTO:-0400
TZNAME:EDT
DTSTART:20270314T070000
END:DAYLIGHT
BEGIN:STANDARD
TZOFFSETFROM:-0400
TZOFFSETTO:-0500
TZNAME:EST
DTSTART:20271107T060000
END:STANDARD
END:VTIMEZONE
BEGIN:VEVENT
DTSTART;VALUE=DATE:20260425
DTEND;VALUE=DATE:20260426
DTSTAMP:20260423T155641
CREATED:20260127T221408Z
LAST-MODIFIED:20260314T205319Z
UID:24279-1777075200-1777161599@hrdogclub.org
SUMMARY:HROTC Rally Trial
DESCRIPTION:Click here for Premium: http://hrdogclub.org/wp-content/uploads/2026/01/Premium-List-Obed-Rally-v1c-.pdf \nClick here for Entry Form: http://hrdogclub.org/wp-content/uploads/2026/01/RALLY-Entry-Form-.pdf \n 
URL:https://hrdogclub.org/event/hrotc-rally-trial-3/
LOCATION:Merrimac Dog Training Club\, 15 Newsome Place\, Hampton\, VA\, 23661\, United States
CATEGORIES:Trial
ORGANIZER;CN="Beverly McGhghy":MAILTO:bevmc8@verizon.net
END:VEVENT
BEGIN:VEVENT
DTSTART;VALUE=DATE:20260426
DTEND;VALUE=DATE:20260427
DTSTAMP:20260423T155641
CREATED:20260127T221743Z
LAST-MODIFIED:20260314T205415Z
UID:24283-1777161600-1777247999@hrdogclub.org
SUMMARY:HROTC Obedience Trial
DESCRIPTION:Click here for Premium: http://hrdogclub.org/wp-content/uploads/2026/01/Premium-List-Obed-Rally-v1c-.pdf \nClick here for Entry Form: http://hrdogclub.org/wp-content/uploads/2026/01/OBEDIENCE-Entry-Form.pdf \n  \n 
URL:https://hrdogclub.org/event/hrotc-obedience-trial-2/
LOCATION:Merrimac Dog Training Club\, 15 Newsome Place\, Hampton\, VA\, 23661\, United States
CATEGORIES:Trial
ORGANIZER;CN="Beverly McGhghy":MAILTO:bevmc8@verizon.net
END:VEVENT
BEGIN:VEVENT
DTSTART;TZID=America/New_York:20260503T180000
DTEND;TZID=America/New_York:20260503T193000
DTSTAMP:20260423T155641
CREATED:20251207T163812Z
LAST-MODIFIED:20260412T222811Z
UID:24166-1777831200-1777836600@hrdogclub.org
SUMMARY:General Meeting
DESCRIPTION:
URL:https://hrdogclub.org/event/general-meeting-21/
LOCATION:VA
CATEGORIES:Meetings
END:VEVENT
BEGIN:VEVENT
DTSTART;VALUE=DATE:20260517
DTEND;VALUE=DATE:20260518
DTSTAMP:20260423T155641
CREATED:20251207T163815Z
LAST-MODIFIED:20251207T163815Z
UID:24169-1778976000-1779062399@hrdogclub.org
SUMMARY:Board Meeting
DESCRIPTION:
URL:https://hrdogclub.org/event/board-meeting-22/
LOCATION:VA
CATEGORIES:Meetings
END:VEVENT
BEGIN:VEVENT
DTSTART;TZID=America/New_York:20260523T073000
DTEND;TZID=America/New_York:20260524T180000
DTSTAMP:20260423T155641
CREATED:20251128T232806Z
LAST-MODIFIED:20260312T184017Z
UID:23875-1779521400-1779645600@hrdogclub.org
SUMMARY:HROTC Scent Work Trial
DESCRIPTION:Saturday and Sunday May 23 and 24\, 2026\nClick here for premium\n 
URL:https://hrdogclub.org/event/hrotc-scent-work-trial-12/
LOCATION:Franklin HIgh School\, 310 Crescent Drive\, Franklin\, 23851\, United States
ORGANIZER;CN="Peter Turbide":MAILTO:swtrialchairperson@gmail.com
END:VEVENT
BEGIN:VEVENT
DTSTART;VALUE=DATE:20260608
DTEND;VALUE=DATE:20260609
DTSTAMP:20260423T155641
CREATED:20251207T163816Z
LAST-MODIFIED:20251207T163816Z
UID:24170-1780876800-1780963199@hrdogclub.org
SUMMARY:PMCL Meeting
DESCRIPTION:
URL:https://hrdogclub.org/event/pmcl-meeting-24/
LOCATION:VA
CATEGORIES:PMCL
END:VEVENT
BEGIN:VEVENT
DTSTART;VALUE=DATE:20260609
DTEND;VALUE=DATE:20260610
DTSTAMP:20260423T155641
CREATED:20251207T163828Z
LAST-MODIFIED:20251207T163828Z
UID:24171-1780963200-1781049599@hrdogclub.org
SUMMARY:Session 4 Begins
DESCRIPTION:
URL:https://hrdogclub.org/event/session-4-begins-5/
LOCATION:VA
CATEGORIES:Training
END:VEVENT
BEGIN:VEVENT
DTSTART;VALUE=DATE:20260621
DTEND;VALUE=DATE:20260622
DTSTAMP:20260423T155641
CREATED:20251207T163829Z
LAST-MODIFIED:20251207T163829Z
UID:24172-1782000000-1782086399@hrdogclub.org
SUMMARY:General Meeting
DESCRIPTION:
URL:https://hrdogclub.org/event/general-meeting-22/
LOCATION:VA
CATEGORIES:Meetings
END:VEVENT
BEGIN:VEVENT
DTSTART;VALUE=DATE:20260726
DTEND;VALUE=DATE:20260727
DTSTAMP:20260423T155641
CREATED:20251207T163830Z
LAST-MODIFIED:20251207T163830Z
UID:24173-1785024000-1785110399@hrdogclub.org
SUMMARY:Board Meeting
DESCRIPTION:
URL:https://hrdogclub.org/event/board-meeting-23/
LOCATION:VA
CATEGORIES:Meetings
END:VEVENT
BEGIN:VEVENT
DTSTART;VALUE=DATE:20260810
DTEND;VALUE=DATE:20260811
DTSTAMP:20260423T155641
CREATED:20251207T163831Z
LAST-MODIFIED:20251207T163831Z
UID:24174-1786320000-1786406399@hrdogclub.org
SUMMARY:PMCL Meeting
DESCRIPTION:
URL:https://hrdogclub.org/event/pmcl-meeting-25/
LOCATION:VA
CATEGORIES:PMCL
END:VEVENT
BEGIN:VEVENT
DTSTART;VALUE=DATE:20260811
DTEND;VALUE=DATE:20260812
DTSTAMP:20260423T155641
CREATED:20251207T162843Z
LAST-MODIFIED:20251207T163832Z
UID:24116-1786406400-1786492799@hrdogclub.org
SUMMARY:Session 5 Begins
DESCRIPTION:
URL:https://hrdogclub.org/event/session-5-begins-4/
LOCATION:VA
CATEGORIES:Training
END:VEVENT
BEGIN:VEVENT
DTSTART;VALUE=DATE:20260830
DTEND;VALUE=DATE:20260831
DTSTAMP:20260423T155641
CREATED:20251207T164029Z
LAST-MODIFIED:20251207T164029Z
UID:24175-1788048000-1788134399@hrdogclub.org
SUMMARY:General Meeting
DESCRIPTION:
URL:https://hrdogclub.org/event/general-meeting-23/
LOCATION:VA
CATEGORIES:Meetings
END:VEVENT
BEGIN:VEVENT
DTSTART;VALUE=DATE:20260919
DTEND;VALUE=DATE:20260920
DTSTAMP:20260423T155641
CREATED:20251207T164033Z
LAST-MODIFIED:20251207T164033Z
UID:24177-1789776000-1789862399@hrdogclub.org
SUMMARY:Board Meeting
DESCRIPTION:
URL:https://hrdogclub.org/event/board-meeting-24/
LOCATION:VA
CATEGORIES:Meetings
END:VEVENT
BEGIN:VEVENT
DTSTART;VALUE=DATE:20261012
DTEND;VALUE=DATE:20261013
DTSTAMP:20260423T155641
CREATED:20251207T164034Z
LAST-MODIFIED:20251207T164034Z
UID:24178-1791763200-1791849599@hrdogclub.org
SUMMARY:PMCL Meeting
DESCRIPTION:
URL:https://hrdogclub.org/event/pmcl-meeting-26/
LOCATION:VA
CATEGORIES:PMCL
END:VEVENT
BEGIN:VEVENT
DTSTART;VALUE=DATE:20261017
DTEND;VALUE=DATE:20261018
DTSTAMP:20260423T155641
CREATED:20251207T164036Z
LAST-MODIFIED:20251207T164036Z
UID:24179-1792195200-1792281599@hrdogclub.org
SUMMARY:General Meeting
DESCRIPTION:
URL:https://hrdogclub.org/event/general-meeting-24/
LOCATION:VA
CATEGORIES:Meetings
END:VEVENT
BEGIN:VEVENT
DTSTART;VALUE=DATE:20261019
DTEND;VALUE=DATE:20261020
DTSTAMP:20260423T155641
CREATED:20251207T164037Z
LAST-MODIFIED:20251207T164037Z
UID:24180-1792368000-1792454399@hrdogclub.org
SUMMARY:Session 6 Begins
DESCRIPTION:
URL:https://hrdogclub.org/event/session-6-begins-5/
LOCATION:VA
CATEGORIES:Training
END:VEVENT
BEGIN:VEVENT
DTSTART;VALUE=DATE:20261114
DTEND;VALUE=DATE:20261115
DTSTAMP:20260423T155641
CREATED:20251207T164155Z
LAST-MODIFIED:20251207T164155Z
UID:24181-1794614400-1794700799@hrdogclub.org
SUMMARY:Board Meeting
DESCRIPTION:
URL:https://hrdogclub.org/event/board-meeting-25/
LOCATION:VA
CATEGORIES:Meetings
END:VEVENT
BEGIN:VEVENT
DTSTART;VALUE=DATE:20261212
DTEND;VALUE=DATE:20261213
DTSTAMP:20260423T155641
CREATED:20251207T164200Z
LAST-MODIFIED:20251207T164200Z
UID:24182-1797033600-1797119999@hrdogclub.org
SUMMARY:General Meeting
DESCRIPTION:
URL:https://hrdogclub.org/event/general-meeting-25/
LOCATION:VA
CATEGORIES:Meetings
END:VEVENT
BEGIN:VEVENT
DTSTART;VALUE=DATE:20261214
DTEND;VALUE=DATE:20261215
DTSTAMP:20260423T155641
CREATED:20251207T164201Z
LAST-MODIFIED:20251207T164201Z
UID:24183-1797206400-1797292799@hrdogclub.org
SUMMARY:PMCL Meeting
DESCRIPTION:
URL:https://hrdogclub.org/event/pmcl-meeting-27/
LOCATION:VA
CATEGORIES:PMCL
END:VEVENT
END:VCALENDAR