BEGIN:VCALENDAR
VERSION:2.0
PRODID:-//HROTC - ECPv6.15.13.1//NONSGML v1.0//EN
CALSCALE:GREGORIAN
METHOD:PUBLISH
X-WR-CALNAME:HROTC
X-ORIGINAL-URL:https://hrdogclub.org
X-WR-CALDESC:Events for HROTC
REFRESH-INTERVAL;VALUE=DURATION:PT1H
X-Robots-Tag:noindex
X-PUBLISHED-TTL:PT1H
BEGIN:VTIMEZONE
TZID:America/New_York
BEGIN:DAYLIGHT
TZOFFSETFROM:-0500
TZOFFSETTO:-0400
TZNAME:EDT
DTSTART:20250309T070000
END:DAYLIGHT
BEGIN:STANDARD
TZOFFSETFROM:-0400
TZOFFSETTO:-0500
TZNAME:EST
DTSTART:20251102T060000
END:STANDARD
BEGIN:DAYLIGHT
TZOFFSETFROM:-0500
TZOFFSETTO:-0400
TZNAME:EDT
DTSTART:20260308T070000
END:DAYLIGHT
BEGIN:STANDARD
TZOFFSETFROM:-0400
TZOFFSETTO:-0500
TZNAME:EST
DTSTART:20261101T060000
END:STANDARD
BEGIN:DAYLIGHT
TZOFFSETFROM:-0500
TZOFFSETTO:-0400
TZNAME:EDT
DTSTART:20270314T070000
END:DAYLIGHT
BEGIN:STANDARD
TZOFFSETFROM:-0400
TZOFFSETTO:-0500
TZNAME:EST
DTSTART:20271107T060000
END:STANDARD
END:VTIMEZONE
BEGIN:VEVENT
DTSTART;VALUE=DATE:20260425
DTEND;VALUE=DATE:20260426
DTSTAMP:20260423T104645
CREATED:20260127T221408Z
LAST-MODIFIED:20260314T205319Z
UID:24279-1777075200-1777161599@hrdogclub.org
SUMMARY:HROTC Rally Trial
DESCRIPTION:Click here for Premium: http://hrdogclub.org/wp-content/uploads/2026/01/Premium-List-Obed-Rally-v1c-.pdf \nClick here for Entry Form: http://hrdogclub.org/wp-content/uploads/2026/01/RALLY-Entry-Form-.pdf \n 
URL:https://hrdogclub.org/event/hrotc-rally-trial-3/
LOCATION:Merrimac Dog Training Club\, 15 Newsome Place\, Hampton\, VA\, 23661\, United States
CATEGORIES:Trial
ORGANIZER;CN="Beverly McGhghy":MAILTO:bevmc8@verizon.net
END:VEVENT
BEGIN:VEVENT
DTSTART;VALUE=DATE:20260426
DTEND;VALUE=DATE:20260427
DTSTAMP:20260423T104645
CREATED:20260127T221743Z
LAST-MODIFIED:20260314T205415Z
UID:24283-1777161600-1777247999@hrdogclub.org
SUMMARY:HROTC Obedience Trial
DESCRIPTION:Click here for Premium: http://hrdogclub.org/wp-content/uploads/2026/01/Premium-List-Obed-Rally-v1c-.pdf \nClick here for Entry Form: http://hrdogclub.org/wp-content/uploads/2026/01/OBEDIENCE-Entry-Form.pdf \n  \n 
URL:https://hrdogclub.org/event/hrotc-obedience-trial-2/
LOCATION:Merrimac Dog Training Club\, 15 Newsome Place\, Hampton\, VA\, 23661\, United States
CATEGORIES:Trial
ORGANIZER;CN="Beverly McGhghy":MAILTO:bevmc8@verizon.net
END:VEVENT
END:VCALENDAR